BEGIN:VCALENDAR
VERSION:2.0
PRODID:-//Australian Boutique Premium Wines - ECPv5.4.0//NONSGML v1.0//EN
CALSCALE:GREGORIAN
METHOD:PUBLISH
X-WR-CALNAME:Australian Boutique Premium Wines
X-ORIGINAL-URL:https://ozwines.net.au/site
X-WR-CALDESC:Events for Australian Boutique Premium Wines
BEGIN:VTIMEZONE
TZID:UTC
BEGIN:STANDARD
TZOFFSETFROM:+0000
TZOFFSETTO:+0000
TZNAME:UTC
DTSTART:20180101T000000
END:STANDARD
END:VTIMEZONE
BEGIN:VEVENT
DTSTART;TZID=UTC:20180324T080000
DTEND;TZID=UTC:20180324T170000
DTSTAMP:20210301T171311
CREATED:20180313T185511Z
LAST-MODIFIED:20180313T185511Z
UID:1450-1521878400-1521910800@ozwines.net.au
SUMMARY:Wine Tasting DES'S Jess 18ppl
DESCRIPTION:Jess 18 ppl  – Amelia – 0451 100 108 Uni Students
URL:https://ozwines.net.au/site/event/wine-tasting-dess-jess-18ppl/
END:VEVENT
END:VCALENDAR