BEGIN:VCALENDAR
VERSION:2.0
PRODID:-//Australian Boutique Premium Wines - ECPv5.4.0//NONSGML v1.0//EN
CALSCALE:GREGORIAN
METHOD:PUBLISH
X-WR-CALNAME:Australian Boutique Premium Wines
X-ORIGINAL-URL:https://ozwines.net.au/site
X-WR-CALDESC:Events for Australian Boutique Premium Wines
BEGIN:VTIMEZONE
TZID:UTC
BEGIN:STANDARD
TZOFFSETFROM:+0000
TZOFFSETTO:+0000
TZNAME:UTC
DTSTART:20170101T000000
END:STANDARD
END:VTIMEZONE
BEGIN:VEVENT
DTSTART;TZID=UTC:20171201T140000
DTEND;TZID=UTC:20171201T180000
DTSTAMP:20210301T171027
CREATED:20171128T205419Z
LAST-MODIFIED:20171128T205614Z
UID:1241-1512136800-1512151200@ozwines.net.au
SUMMARY:Wine Tasting Cellar Door
DESCRIPTION:
URL:https://ozwines.net.au/site/event/wine-tasting-cellar-door/
LOCATION:Australian Boutique Premium Wines\, Shop 6\, 112 Main Street\, McLaren Vale\, South Australia\, Adelaide\, South Australia\, 5171\, Australia
CATEGORIES:Wine Tasting
ATTACH;FMTTYPE=image/jpeg:https://ozwines.net.au/site/wp-content/uploads/2017/11/redwine.jpg
ORGANIZER;CN="Bob%20Harrison":MAILTO:admin@ozwines.net.au
END:VEVENT
END:VCALENDAR