BEGIN:VCALENDAR
VERSION:2.0
PRODID:-//Australian Boutique Premium Wines - ECPv5.4.0//NONSGML v1.0//EN
CALSCALE:GREGORIAN
METHOD:PUBLISH
X-WR-CALNAME:Australian Boutique Premium Wines
X-ORIGINAL-URL:https://ozwines.net.au/site
X-WR-CALDESC:Events for Australian Boutique Premium Wines
BEGIN:VTIMEZONE
TZID:UTC
BEGIN:STANDARD
TZOFFSETFROM:+0000
TZOFFSETTO:+0000
TZNAME:UTC
DTSTART:20180101T000000
END:STANDARD
END:VTIMEZONE
BEGIN:VEVENT
DTSTART;TZID=UTC:20180321T150000
DTEND;TZID=UTC:20180321T160000
DTSTAMP:20210301T171250
CREATED:20180313T184952Z
LAST-MODIFIED:20180313T185103Z
UID:1448-1521644400-1521648000@ozwines.net.au
SUMMARY:Wine tasting
DESCRIPTION:10 ppl with Joseph from Benders
URL:https://ozwines.net.au/site/event/wine-tasting-2/
LOCATION:Australian Boutique Premium Wines\, Shop 6\, 112 Main Street\, McLaren Vale\, South Australia\, Adelaide\, South Australia\, 5171\, Australia
END:VEVENT
END:VCALENDAR