BEGIN:VCALENDAR
VERSION:2.0
PRODID:-//Australian Boutique Premium Wines - ECPv5.4.0//NONSGML v1.0//EN
CALSCALE:GREGORIAN
METHOD:PUBLISH
X-WR-CALNAME:Australian Boutique Premium Wines
X-ORIGINAL-URL:https://ozwines.net.au/site
X-WR-CALDESC:Events for Australian Boutique Premium Wines
BEGIN:VTIMEZONE
TZID:UTC
BEGIN:STANDARD
TZOFFSETFROM:+0000
TZOFFSETTO:+0000
TZNAME:UTC
DTSTART:20180101T000000
END:STANDARD
END:VTIMEZONE
BEGIN:VEVENT
DTSTART;TZID=UTC:20180408T120000
DTEND;TZID=UTC:20180408T130000
DTSTAMP:20210301T171337
CREATED:20180313T185642Z
LAST-MODIFIED:20180313T185642Z
UID:1453-1523188800-1523192400@ozwines.net.au
SUMMARY:Tasting Benders 12ppl
DESCRIPTION:with Joseph 12 ppl 0412 674 147
URL:https://ozwines.net.au/site/event/tasting-benders-12ppl/
LOCATION:Australian Boutique Premium Wines\, Shop 6\, 112 Main Street\, McLaren Vale\, South Australia\, Adelaide\, South Australia\, 5171\, Australia
END:VEVENT
END:VCALENDAR