BEGIN:VCALENDAR
VERSION:2.0
PRODID:-//Australian Boutique Premium Wines - ECPv5.4.0//NONSGML v1.0//EN
CALSCALE:GREGORIAN
METHOD:PUBLISH
X-WR-CALNAME:Australian Boutique Premium Wines
X-ORIGINAL-URL:https://ozwines.net.au/site
X-WR-CALDESC:Events for Australian Boutique Premium Wines
BEGIN:VTIMEZONE
TZID:UTC
BEGIN:STANDARD
TZOFFSETFROM:+0000
TZOFFSETTO:+0000
TZNAME:UTC
DTSTART:20190101T000000
END:STANDARD
END:VTIMEZONE
BEGIN:VEVENT
DTSTART;TZID=UTC:20190505T150000
DTEND;TZID=UTC:20190505T170000
DTSTAMP:20210301T171420
CREATED:20190411T190054Z
LAST-MODIFIED:20190411T190054Z
UID:1517-1557068400-1557075600@ozwines.net.au
SUMMARY:Peter & Kay Dodds
DESCRIPTION:33 High Street\, Evandale\, Tasmania
URL:https://ozwines.net.au/site/event/peter-kay-dodds/
ORGANIZER;CN="Bob%20Harrison":MAILTO:admin@ozwines.net.au
END:VEVENT
END:VCALENDAR